BEGIN:VCALENDAR
VERSION:2.0
PRODID:-//Colonial Spirits - ECPv6.15.18//NONSGML v1.0//EN
CALSCALE:GREGORIAN
METHOD:PUBLISH
X-WR-CALNAME:Colonial Spirits
X-ORIGINAL-URL:https://www.colonialspirits.com
X-WR-CALDESC:Events for Colonial Spirits
REFRESH-INTERVAL;VALUE=DURATION:PT1H
X-Robots-Tag:noindex
X-PUBLISHED-TTL:PT1H
BEGIN:VTIMEZONE
TZID:America/New_York
BEGIN:DAYLIGHT
TZOFFSETFROM:-0500
TZOFFSETTO:-0400
TZNAME:EDT
DTSTART:20100314T070000
END:DAYLIGHT
BEGIN:STANDARD
TZOFFSETFROM:-0400
TZOFFSETTO:-0500
TZNAME:EST
DTSTART:20101107T060000
END:STANDARD
BEGIN:DAYLIGHT
TZOFFSETFROM:-0500
TZOFFSETTO:-0400
TZNAME:EDT
DTSTART:20110313T070000
END:DAYLIGHT
BEGIN:STANDARD
TZOFFSETFROM:-0400
TZOFFSETTO:-0500
TZNAME:EST
DTSTART:20111106T060000
END:STANDARD
BEGIN:DAYLIGHT
TZOFFSETFROM:-0500
TZOFFSETTO:-0400
TZNAME:EDT
DTSTART:20120311T070000
END:DAYLIGHT
BEGIN:STANDARD
TZOFFSETFROM:-0400
TZOFFSETTO:-0500
TZNAME:EST
DTSTART:20121104T060000
END:STANDARD
END:VTIMEZONE
BEGIN:VEVENT
DTSTART;TZID=America/New_York:20111223T150000
DTEND;TZID=America/New_York:20111223T180000
DTSTAMP:20260420T135807
CREATED:20111103T200611Z
LAST-MODIFIED:20210511T033817Z
UID:10001810-1324652400-1324663200@www.colonialspirits.com
SUMMARY:Global Wine\, Inc. Tasting
DESCRIPTION:Come in and try some of the wines that were poured at the Tre Amici Wine Dinner\, and also new ones. Global Wine\, Inc’s philosophy is to bring the consumer the best wine possible\, whether the wine is inexpensive or expensive. They are living up to their calling and in order to prove it to you\, will be pouring some of their wines in our store. Come in and enjoy their company and their wines\, sure crowd pleasers. \nMontecepas Torrontes- $10.99\nMontecepas Malbec- $10.99\nPoggio Prosecco- $10.99\nRovero Brachetto- $19.99\nMarta’s Vineyards Malbec Reserva- $17.99\nMarta’s Vineyards Cab Sauv Reserva- $17.99\nMarrta’s Vineyards Tempranillo Reserva- $17.99\nMarta’s Vineyards Malbec Signature Reserva 1999- $34.99 \nThank you and enjoy!
URL:https://www.colonialspirits.com/event/global-wine-inc-tasting-122311-3-6pm/
LOCATION:Colonial Spirits\, 87 Great Road\, Acton\, MA\, 01720\, United States
CATEGORIES:Wine Tastings
ATTACH;FMTTYPE=image/jpeg:https://www.colonialspirits.com/wp-content/uploads/2011/11/gwsitebanner-e1320350436813.jpg
GEO:42.4785163;-71.4114514
X-APPLE-STRUCTURED-LOCATION;VALUE=URI;X-ADDRESS=Colonial Spirits 87 Great Road Acton MA 01720 United States;X-APPLE-RADIUS=500;X-TITLE=87 Great Road:geo:-71.4114514,42.4785163
END:VEVENT
BEGIN:VEVENT
DTSTART;TZID=America/New_York:20111216T150000
DTEND;TZID=America/New_York:20111216T180000
DTSTAMP:20260420T135807
CREATED:20111103T200526Z
LAST-MODIFIED:20210511T033817Z
UID:10001793-1324047600-1324058400@www.colonialspirits.com
SUMMARY:Global Wine\, Inc. Tasting
DESCRIPTION:Come in and try some of the wines that were poured at the Tre Amici Wine Dinner\, and also new ones. Global Wine\, Inc’s philosophy is to bring the consumer the best wine possible\, whether the wine is inexpensive or expensive. They are living up to their calling and in order to prove it to you\, will be pouring some of their wines in our store. Come in and enjoy their company and their wines\, sure crowd pleasers. \nMontecepas Torrontes- $10.99\nMontecepas Malbec- $10.99\nPoggio Prosecco- $10.99\nRovero Brachetto- $19.99\nMarta’s Vineyards Malbec Reserva- $17.99\nMarta’s Vineyards Cab Sauv Reserva- $17.99\nMarrta’s Vineyards Tempranillo Reserva- $17.99 \nThank you and enjoy!
URL:https://www.colonialspirits.com/event/global-wine-inc-tasting-121611-3-6pm/
LOCATION:Colonial Spirits\, 87 Great Road\, Acton\, MA\, 01720\, United States
CATEGORIES:Wine Tastings
ATTACH;FMTTYPE=image/jpeg:https://www.colonialspirits.com/wp-content/uploads/2011/11/gwsitebanner-e1320350436813.jpg
GEO:42.4785163;-71.4114514
X-APPLE-STRUCTURED-LOCATION;VALUE=URI;X-ADDRESS=Colonial Spirits 87 Great Road Acton MA 01720 United States;X-APPLE-RADIUS=500;X-TITLE=87 Great Road:geo:-71.4114514,42.4785163
END:VEVENT
BEGIN:VEVENT
DTSTART;TZID=America/New_York:20111205T183000
DTEND;TZID=America/New_York:20111205T220000
DTSTAMP:20260420T135807
CREATED:20110312T203403Z
LAST-MODIFIED:20110312T203403Z
UID:10001593-1323109800-1323122400@www.colonialspirits.com
SUMMARY:Pierre Ferrand Cognac Dinner
DESCRIPTION:Pierre Ferrand\, Sprigs Restaurant and Colonial Spirits are all teaming up to bring you a wonderful dinner perfectly paired with some of the best cognacs on the market! The first course will be seared rare tuna over mini naan bread and wakami seaweed salad served with Pierre Ferrand Pineau Des Charentes.  The second course will be bacon wrapped scallops with roasted pineapple sauce served with Pierre Ferrand Ambre.  The third course is seared foie greas with sweet and sour quince marmalade served with a cocktail featuring Pierre Ferrand 1840 Formula cognac.  The fourth course will be apple-wood smoked duck breast with a grilled orange fennel salad and Peking duck spring rolls served with Pierre Ferrand Cigare Blend.  The fifth and final course is a dessert of french toast and sauteed apples with candied pecans and maple ice cream. Should be a fun and delicious evening\, hope to see you there.  For Reservations please call Sprigs at 978-263-3325.
URL:https://www.colonialspirits.com/event/pierre-ferrand-cognac-dinner/
LOCATION:Sprigs\, 5 Strawberry Hill Road\, Acton\, MA\, 01720\, United States
CATEGORIES:Liquor Tastings
ATTACH;FMTTYPE=image/jpeg:https://www.colonialspirits.com/wp-content/uploads/2011/03/ferrand-e1321299515248.jpg
GEO:42.4919557;-71.4158599
X-APPLE-STRUCTURED-LOCATION;VALUE=URI;X-ADDRESS=Sprigs 5 Strawberry Hill Road Acton MA 01720 United States;X-APPLE-RADIUS=500;X-TITLE=5 Strawberry Hill Road:geo:-71.4158599,42.4919557
END:VEVENT
BEGIN:VEVENT
DTSTART;TZID=America/New_York:20111118T150000
DTEND;TZID=America/New_York:20111118T180000
DTSTAMP:20260420T135807
CREATED:20111103T200238Z
LAST-MODIFIED:20210511T033816Z
UID:10001791-1321628400-1321639200@www.colonialspirits.com
SUMMARY:Global Wine Tasting
DESCRIPTION:Come in and try some of the wines that were poured at the Tre Amici Wine Dinner\, and also new ones. Global Wine\, Inc’s philosophy is to bring the consumer the best wine possible\, whether the wine is inexpensive or expensive. They are living up to their calling and in order to prove it to you\, will be pouring some of their wines in our store. Come in and enjoy their company and their wines\, sure crowd pleasers. \nMontecepas Torrontes- $10.99\nMontecepas Malbec- $10.99\nPoggio Prosecco- $10.99\nRovero Brachetto- $19.99\nMarta’s Vineyards Malbec Reserva- $17.99\nMarta’s Vineyards Cab Sauv Reserva- $17.99\nMarrta’s Vineyards Tempranillo Reserva- $17.99\nMarta’s Vineyards Malbec Signature 1999- $34.99 \nThank you and enjoy!
URL:https://www.colonialspirits.com/event/global-wine-inc-tasting-111811-3-6pm/
LOCATION:Colonial Spirits\, 87 Great Road\, Acton\, MA\, 01720\, United States
CATEGORIES:Wine Tastings
ATTACH;FMTTYPE=:
GEO:42.4785163;-71.4114514
X-APPLE-STRUCTURED-LOCATION;VALUE=URI;X-ADDRESS=Colonial Spirits 87 Great Road Acton MA 01720 United States;X-APPLE-RADIUS=500;X-TITLE=87 Great Road:geo:-71.4114514,42.4785163
END:VEVENT
BEGIN:VEVENT
DTSTART;TZID=America/New_York:20111111T150000
DTEND;TZID=America/New_York:20111111T180000
DTSTAMP:20260420T135807
CREATED:20111103T194901Z
LAST-MODIFIED:20210511T033816Z
UID:10001789-1321023600-1321034400@www.colonialspirits.com
SUMMARY:Global Wine Tasting
DESCRIPTION:Come in and try some of the wines that were poured at the Tre Amici Wine Dinner\, and also new ones. Global Wine\, Inc’s philosophy is to bring the consumer the best wine possible\, whether the wine is inexpensive or expensive. They are living up to their calling and in order to prove it to you\, will be pouring some of their wines in our store. Come in and enjoy their company and their wines\, sure crowd pleasers. \nMontecepas Torrontes- $10.99\nMontecepas Malbec- $10.99\nPoggio Prosecco- $10.99\nRovero Brachetto- $19.99\nMarta’s Vineyards Malbec Reserva- $17.99\nMarta’s Vineyards Cab Sauv Reserva- $17.99\nMarrta’s Vineyards Tempranillo Reserva- $17.99 \nThank you and enjoy!
URL:https://www.colonialspirits.com/event/global-wine-inc-tasting-111111-3-6pm/
LOCATION:Colonial Spirits\, 87 Great Road\, Acton\, MA\, 01720\, United States
CATEGORIES:Wine Tastings
ATTACH;FMTTYPE=image/jpeg:https://www.colonialspirits.com/wp-content/uploads/2011/11/gwsitebanner-e1320350436813.jpg
GEO:42.4785163;-71.4114514
X-APPLE-STRUCTURED-LOCATION;VALUE=URI;X-ADDRESS=Colonial Spirits 87 Great Road Acton MA 01720 United States;X-APPLE-RADIUS=500;X-TITLE=87 Great Road:geo:-71.4114514,42.4785163
END:VEVENT
BEGIN:VEVENT
DTSTART;TZID=America/New_York:20110623T180000
DTEND;TZID=America/New_York:20110623T203000
DTSTAMP:20260420T135807
CREATED:20110608T142645Z
LAST-MODIFIED:20210509T042857Z
UID:10001574-1308852000-1308861000@www.colonialspirits.com
SUMMARY:Wine Dinner at Tre Amici Ristorante
DESCRIPTION:Join us at Tre Amici Ristorante\, Littleton\, MA\, on Thursday June 23rd from 6:00-8:30pm to eat some great food and taste some great wines.  Colonial Spirits\, in collaboration with Global Wine Importers\, will be hosting a dinner to showcase a lineup of new Italian & Argentine wines that will soon be available at our store.  Seating is limited so RSVP as soon as possible. \nTo reserve a seat please call Tre Amici at 978.339.5275 \nThank You
URL:https://www.colonialspirits.com/event/wine-dinner-at-tre-amici-ristorante/
LOCATION:Tre Amici Ristorante\, 529 King Street\, Littleton\, MA\, 01460\, United States
CATEGORIES:Wine Dinners,Wine Tastings
ATTACH;FMTTYPE=:
GEO:42.547058;-71.470752
X-APPLE-STRUCTURED-LOCATION;VALUE=URI;X-ADDRESS=Tre Amici Ristorante 529 King Street Littleton MA 01460 United States;X-APPLE-RADIUS=500;X-TITLE=529 King Street:geo:-71.470752,42.547058
END:VEVENT
BEGIN:VEVENT
DTSTART;TZID=America/New_York:20110428T183000
DTEND;TZID=America/New_York:20110428T220000
DTSTAMP:20260420T135807
CREATED:20110422T143303Z
LAST-MODIFIED:20210930T184534Z
UID:10001618-1304015400-1304028000@www.colonialspirits.com
SUMMARY:Colonial Spirits presents... Merriam Wine Dinner
DESCRIPTION:The When : Join us Thursday\, April 28th at Sprig’s Restaurant in Acton for a wine dinner featuring wines by Peter Merriam.  Aperitifs start @ 6:30…Dinner starts @ 7pm. \nInformation about the wines will be presented by Peter Merriam himself. \nThe Where : Sprigs Restaurant and Bar (5 Strawberry Hill Road in Acton) \nThe How : Please be sure to call Sprigs 978.263.3325 or email Martha to place your reservation since seating is limited! \nThis will be one of those events you remember fondly for years.  Please join us for a very special evening. The wines served at the dinner will be available for purchase through our store after the event. \n 
URL:https://www.colonialspirits.com/event/colonial-spirits-presents-merriam-wine-dinner/
LOCATION:Colonial Spirits\, 87 Great Road\, Acton\, MA\, 01720\, United States
CATEGORIES:Wine Dinners,Wine Tastings
ATTACH;FMTTYPE=image/jpeg:https://www.colonialspirits.com/wp-content/uploads/2011/04/Merriam-Merlot-Label.jpg
GEO:42.4785163;-71.4114514
X-APPLE-STRUCTURED-LOCATION;VALUE=URI;X-ADDRESS=Colonial Spirits 87 Great Road Acton MA 01720 United States;X-APPLE-RADIUS=500;X-TITLE=87 Great Road:geo:-71.4114514,42.4785163
END:VEVENT
END:VCALENDAR